BEGIN:VCALENDAR
VERSION:2.0
PRODID:-//ChamberMaster//Event Calendar 2.0//EN
METHOD:PUBLISH
X-PUBLISHED-TTL:P3D
REFRESH-INTERVAL:P3D
CALSCALE:GREGORIAN
BEGIN:VEVENT
DTSTART:20280405T000000Z
DTEND:20280405T010000Z
X-MICROSOFT-CDO-ALLDAYEVENT:FALSE
SUMMARY:South Carthage Planning Commission
DESCRIPTION:
X-ALT-DESC;FMTTYPE=text/html:
LOCATION:
UID:e.3171.8300
SEQUENCE:3
DTSTAMP:20260420T173206Z
URL:https://business.smithcountychamber.org/events/details/south-carthage-planning-commission-04-04-2028-8300
END:VEVENT

END:VCALENDAR
