BEGIN:VCALENDAR
VERSION:2.0
PRODID:-//ChamberMaster//Event Calendar 2.0//EN
METHOD:PUBLISH
X-PUBLISHED-TTL:P3D
REFRESH-INTERVAL:P3D
CALSCALE:GREGORIAN
BEGIN:VEVENT
DTSTART:20290911T000000Z
DTEND:20290911T010000Z
X-MICROSOFT-CDO-ALLDAYEVENT:FALSE
SUMMARY:Smith County Commission Meeting
DESCRIPTION:
X-ALT-DESC;FMTTYPE=text/html:
LOCATION:Smith County Courts Facility 322 Justice Way
UID:e.3171.8194
SEQUENCE:3
DTSTAMP:20260421T203136Z
URL:https://business.smithcountychamber.org/events/details/smith-county-commission-meeting-09-10-2029-8194
END:VEVENT

END:VCALENDAR
