BEGIN:VCALENDAR
VERSION:2.0
PRODID:-//ChamberMaster//Event Calendar 2.0//EN
METHOD:PUBLISH
X-PUBLISHED-TTL:P3D
REFRESH-INTERVAL:P3D
CALSCALE:GREGORIAN
BEGIN:VEVENT
DTSTART:20210911T123000Z
DTEND:20210912T030000Z
X-MICROSOFT-CDO-ALLDAYEVENT:FALSE
SUMMARY:Remember 9/11
DESCRIPTION:Join the Smith County veterans to remember 9/11 and honor those who served. Bring a chair\, refreshments will be served following the remembrance.
X-ALT-DESC;FMTTYPE=text/html:Join the Smith County veterans to remember 9/11 and honor those who served. Bring a chair\, refreshments will be served following the remembrance.&nbsp\; &nbsp\;
LOCATION:Historic Smith County Courthouse
UID:e.3171.13674
SEQUENCE:3
DTSTAMP:20260420T205352Z
URL:https://business.smithcountychamber.org/events/details/remember-9-11-13674
END:VEVENT

END:VCALENDAR
