BEGIN:VCALENDAR
VERSION:2.0
PRODID:-//ChamberMaster//Event Calendar 2.0//EN
METHOD:PUBLISH
X-PUBLISHED-TTL:P3D
REFRESH-INTERVAL:P3D
CALSCALE:GREGORIAN
BEGIN:VEVENT
DTSTART:20220604T230000Z
DTEND:20220605T020000Z
X-MICROSOFT-CDO-ALLDAYEVENT:FALSE
SUMMARY:FREE Summer Concert
DESCRIPTION:FREE Summer Concert\n\nAmerican Legion Post 57\n\nSummer Concert Series
X-ALT-DESC;FMTTYPE=text/html:FREE Summer Concert<br />\nAmerican Legion Post 57<br />\nSummer Concert Series
LOCATION:Lawn of the Historic Courthouse Downtown Carthage
UID:e.3171.14603
SEQUENCE:3
DTSTAMP:20260421T062523Z
URL:https://business.smithcountychamber.org/events/details/free-summer-concert-14603
END:VEVENT

END:VCALENDAR
