BEGIN:VCALENDAR
VERSION:2.0
PRODID:-//ChamberMaster//Event Calendar 2.0//EN
METHOD:PUBLISH
X-PUBLISHED-TTL:P3D
REFRESH-INTERVAL:P3D
CALSCALE:GREGORIAN
BEGIN:VEVENT
DTSTART:20220622T150000Z
DTEND:20220622T170000Z
X-MICROSOFT-CDO-ALLDAYEVENT:FALSE
SUMMARY:Food Pantry
DESCRIPTION:Second Harvest Food Distribution\n\nMonthly route
X-ALT-DESC;FMTTYPE=text/html:Second Harvest Food Distribution<br />\nMonthly route
LOCATION:Smith County AG Center
UID:e.3171.12338
SEQUENCE:3
DTSTAMP:20260421T062809Z
URL:https://business.smithcountychamber.org/events/details/food-pantry-06-22-2022-12338
END:VEVENT

END:VCALENDAR
