BEGIN:VCALENDAR
VERSION:2.0
PRODID:-//ChamberMaster//Event Calendar 2.0//EN
METHOD:PUBLISH
X-PUBLISHED-TTL:P3D
REFRESH-INTERVAL:P3D
CALSCALE:GREGORIAN
BEGIN:VEVENT
DTSTART:20281122T160000Z
DTEND:20281122T180000Z
X-MICROSOFT-CDO-ALLDAYEVENT:FALSE
SUMMARY:Food Drive
DESCRIPTION:
X-ALT-DESC;FMTTYPE=text/html:
LOCATION:Smith County AG Center
UID:e.3171.12415
SEQUENCE:3
DTSTAMP:20260421T042038Z
URL:https://business.smithcountychamber.org/events/details/food-drive-11-22-2028-12415
END:VEVENT

END:VCALENDAR
