BEGIN:VCALENDAR
VERSION:2.0
PRODID:-//ChamberMaster//Event Calendar 2.0//EN
METHOD:PUBLISH
X-PUBLISHED-TTL:P3D
REFRESH-INTERVAL:P3D
CALSCALE:GREGORIAN
BEGIN:VEVENT
DTSTART:20290523T150000Z
DTEND:20290523T170000Z
X-MICROSOFT-CDO-ALLDAYEVENT:FALSE
SUMMARY:Food Drive
DESCRIPTION:
X-ALT-DESC;FMTTYPE=text/html:
LOCATION:Smith County AG Center
UID:e.3171.12421
SEQUENCE:3
DTSTAMP:20260421T153248Z
URL:https://business.smithcountychamber.org/events/details/food-drive-05-23-2029-12421
END:VEVENT

END:VCALENDAR
