BEGIN:VCALENDAR
VERSION:2.0
PRODID:-//ChamberMaster//Event Calendar 2.0//EN
METHOD:PUBLISH
X-PUBLISHED-TTL:P3D
REFRESH-INTERVAL:P3D
CALSCALE:GREGORIAN
BEGIN:VEVENT
DTSTART:20290509T150000Z
DTEND:20290509T170000Z
X-MICROSOFT-CDO-ALLDAYEVENT:FALSE
SUMMARY:Food Drive
DESCRIPTION:
X-ALT-DESC;FMTTYPE=text/html:
LOCATION:Smith County Ag Center
UID:e.3171.12552
SEQUENCE:3
DTSTAMP:20260421T134525Z
URL:https://business.smithcountychamber.org/events/details/food-drive-05-09-2029-12552
END:VEVENT

END:VCALENDAR
