BEGIN:VCALENDAR
VERSION:2.0
PRODID:-//ChamberMaster//Event Calendar 2.0//EN
METHOD:PUBLISH
X-PUBLISHED-TTL:P3D
REFRESH-INTERVAL:P3D
CALSCALE:GREGORIAN
BEGIN:VEVENT
DTSTART:20280112T010000Z
DTEND:20280112T020000Z
X-MICROSOFT-CDO-ALLDAYEVENT:FALSE
SUMMARY:American Legion Post 57 Meeting
DESCRIPTION:
X-ALT-DESC;FMTTYPE=text/html:
LOCATION:American Legion Hall 222 Main Street Carthage\, Tennessee
UID:e.3171.5632
SEQUENCE:3
DTSTAMP:20260420T131925Z
URL:https://business.smithcountychamber.org/events/details/american-legion-post-57-meeting-01-11-2028-5632
END:VEVENT

END:VCALENDAR
